BEGIN:VCALENDAR
VERSION:2.0
CALSCALE:GREGORIAN
PRODID:adamgibbons/ics
METHOD:PUBLISH
X-PUBLISHED-TTL:PT1H
BEGIN:VEVENT
UID:sSacMMEiz8uVw7TC-wnaH
SUMMARY:Concurs de Colles Sardanistes
DTSTAMP:20260423T150612Z
DTSTART:20250309T120000
DESCRIPTION:\nCobla: Cobla no especificada
LOCATION:ALMACELLES
DURATION:PT2H
END:VEVENT
END:VCALENDAR
