BEGIN:VCALENDAR
VERSION:2.0
CALSCALE:GREGORIAN
PRODID:adamgibbons/ics
METHOD:PUBLISH
X-PUBLISHED-TTL:PT1H
BEGIN:VEVENT
UID:Wgp7s3UcclJW8JQJ_o0F6
SUMMARY:Presentació del llibre: "Dos Tresos" de Quim Massa
DTSTAMP:20260423T150115Z
DTSTART:20250223T120000
DESCRIPTION:\nCobla: Acte sense cobla
LOCATION:Sala Galà (Carrer del Molí\, 9) - CASSÀ DE LA SELVA
DURATION:PT2H
END:VEVENT
END:VCALENDAR
