BEGIN:VCALENDAR
VERSION:2.0
CALSCALE:GREGORIAN
PRODID:adamgibbons/ics
METHOD:PUBLISH
X-PUBLISHED-TTL:PT1H
BEGIN:VEVENT
UID:8JYL77s7iR3W1gtUbF2pl
SUMMARY:Ballada de Sant Medir
DTSTAMP:20260423T150009Z
DTSTART:20250303T120000
DESCRIPTION:\nCobla: Contemporània
GEO:41.443639;2.121361
LOCATION:Ermita de Sant Medir - SANT CUGAT DEL VALLÈS
DURATION:PT2H
END:VEVENT
END:VCALENDAR
