BEGIN:VCALENDAR
VERSION:2.0
CALSCALE:GREGORIAN
PRODID:adamgibbons/ics
METHOD:PUBLISH
X-PUBLISHED-TTL:PT1H
BEGIN:VEVENT
UID:pqMDTvTi_a9HKctr5hS-c
SUMMARY:Trio Voltrera
DTSTAMP:20260423T150523Z
DTSTART:20250226T190000
DESCRIPTION:\nDescripció: El trio format per Teresa Campos (tenora)\, Jordi
	 Campos (barítona) i Luis Frontado (piano) ens oferirà un concert de músic
	a d’arrel tradicional catalana amb alguna pinzellada italiana i veneçolana
	\, amb obres de compositors com Pep Ventura\, Enric Morera\, Isaac Albéniz
	\, Ricard Viladesau i Luis Frontado entre d’altres.\n\nLa potent expressiv
	itat de la tenora seguida per la seva companya de viatge\, la barítona\, e
	voquen l’essència de la música catalana amb un itinerari que parteix del l
	ied i passa per l’havanera i la tarantel·la per arribar a la sardana. El p
	iano ens situa en tot moment en un ambient cambrístic ple de detalls i din
	àmiques que permet una nova escolta del repertori tradicional.\nCobla: Act
	e sense cobla
GEO:41.3877594;2.1799641
LOCATION:Casa de la Sardana (Carrer Pou de la Figuera\, 15) - BARCELONA\, C
	iutat Vella
DURATION:PT2H
END:VEVENT
END:VCALENDAR
