BEGIN:VCALENDAR
VERSION:2.0
CALSCALE:GREGORIAN
PRODID:adamgibbons/ics
METHOD:PUBLISH
X-PUBLISHED-TTL:PT1H
BEGIN:VEVENT
UID:wpFDShQR3z2uzuPKux0Il
SUMMARY:La Barcelona desapareguda
DTSTAMP:20260423T150513Z
DTSTART:20250326T183000
DESCRIPTION:\nDescripció: Amb Jordi Pisa\, historiador especialitzat en His
	tòria antiga i medieval i Història de Barcelona\nCobla: Acte sense cobla
GEO:41.3877594;2.1799641
LOCATION:Casa de la Sardana (Carrer Pou de la Figuera\, 15) - BARCELONA\, C
	iutat Vella
DURATION:PT2H
END:VEVENT
END:VCALENDAR
