BEGIN:VCALENDAR
VERSION:2.0
CALSCALE:GREGORIAN
PRODID:adamgibbons/ics
METHOD:PUBLISH
X-PUBLISHED-TTL:PT1H
BEGIN:VEVENT
UID:i65sjqrntBvNhsq5sSz3i
SUMMARY:Concert líric\nJordi Cortada\, tenor i Josep Buforn\, piano
DTSTAMP:20260423T145050Z
DTSTART:20250218T203000
DESCRIPTION:\nDescripció: Cuplets\, sardanes i versos d'Àngel Guimerà amb d
	ramatúrgia de Jordi Lara\nCobla: Acte sense cobla
LOCATION:Biblioteca de Catalunya (Carrer de l'Hospital\, 56) - BARCELONA\, 
	Ciutat Vella
DURATION:PT2H
END:VEVENT
END:VCALENDAR
