BEGIN:VCALENDAR
VERSION:2.0
CALSCALE:GREGORIAN
PRODID:adamgibbons/ics
METHOD:PUBLISH
X-PUBLISHED-TTL:PT1H
BEGIN:VEVENT
UID:TZiua6DkxUgo4TC-dh7pY
SUMMARY:Diada del soci - Ballada -
DTSTAMP:20260423T145904Z
DTSTART:20250223T124500
DESCRIPTION:\nCobla: Marinada
LOCATION:Plaça de l'Església - SANT SADURNÍ D'ANOIA
DURATION:PT2H
END:VEVENT
END:VCALENDAR
