BEGIN:VCALENDAR
VERSION:2.0
CALSCALE:GREGORIAN
PRODID:adamgibbons/ics
METHOD:PUBLISH
X-PUBLISHED-TTL:PT1H
BEGIN:VEVENT
UID:M5WL_5MhUyOgLl7VDCFAH
SUMMARY:Concert: Ànimes Pirineu
DTSTAMP:20260423T150654Z
DTSTART:20250220T100000
DESCRIPTION:\nDescripció: Amb Montse Pelfort i Marc Vall\nCobla: Lluïsos Co
	bla
LOCATION:Teatre Monumental (Carrer de la Riera\, 169) - MATARÓ
DURATION:PT2H
END:VEVENT
END:VCALENDAR
