BEGIN:VCALENDAR
VERSION:2.0
CALSCALE:GREGORIAN
PRODID:adamgibbons/ics
METHOD:PUBLISH
X-PUBLISHED-TTL:PT1H
BEGIN:VEVENT
UID:e_8fjC1xnVb3lupPfo2kg
SUMMARY:Festa de l'arròs
DTSTAMP:20260423T150616Z
DTSTART:20250302T110000
DESCRIPTION:\nDescripció: Ballada de 5 sardanes\nCobla: Lluïsos Cobla
LOCATION:Plaça davant del Nexe Espai de Cultura - SANT FRUITÓS DE BAGES
DURATION:PT2H
END:VEVENT
END:VCALENDAR
