BEGIN:VCALENDAR
VERSION:2.0
CALSCALE:GREGORIAN
PRODID:adamgibbons/ics
METHOD:PUBLISH
X-PUBLISHED-TTL:PT1H
BEGIN:VEVENT
UID:917CNnM_f7gK8fTJo0gYc
SUMMARY:Ballada de sardanes
DTSTAMP:20260423T150823Z
DTSTART:20250330T113000
DESCRIPTION:\nCobla: La Principal del Llobregat
GEO:41.49371;2.29485
LOCATION:Plaça de l'Ajuntament - ALELLA
DURATION:PT2H
END:VEVENT
END:VCALENDAR
