BEGIN:VCALENDAR
VERSION:2.0
CALSCALE:GREGORIAN
PRODID:adamgibbons/ics
METHOD:PUBLISH
X-PUBLISHED-TTL:PT1H
BEGIN:VEVENT
UID:tvacKLqkgss7Ft1A0p36a
SUMMARY:Concert Cobla Ciutat de Girona\nEl llegat musical de Joan Carreras 
	i Dagas
DTSTAMP:20260423T150740Z
DTSTART:20250222T200000
DESCRIPTION:\nCobla: Ciutat de Girona
GEO:41.98617;2.81149
LOCATION:Auditori (Passeig de la Devesa\, 35) - GIRONA
DURATION:PT2H
END:VEVENT
END:VCALENDAR
