BEGIN:VCALENDAR
VERSION:2.0
CALSCALE:GREGORIAN
PRODID:adamgibbons/ics
METHOD:PUBLISH
X-PUBLISHED-TTL:PT1H
BEGIN:VEVENT
UID:rbNwbK_nBwFuVgtkCBKom
SUMMARY:Sardana Superstar
DTSTAMP:20260423T145918Z
DTSTART:20250214T200000
DESCRIPTION:\nDescripció: Sardana Superstar és un espectacle de teatre musi
	cal erigit sobre la peculiar unió d’aquest gènere escènic i la música per 
	a cobla.\nSardana Superstar és un musical sardanístic d'Arnau Tordera I (O
	beses) que es presenta com una autèntica revolució tant per a amants del t
	eatre musical com per a amants de la sardana i la cobla.\nDurant mil·lenni
	s les societats han esperat sempre un messies\, un salvador singular envia
	t directament per les esferes divines amb el propòsit d’alliberar la human
	itat d’algun mal propi o aliè. Alguns han cregut trobar-lo\, alguns altres
	 han negat que pugui existir i d’altres\, en canvi\, segueixen esperant. L
	a qüestió\, però\, al marge de qui tingui la raó sobre aquest assumpte\, é
	s que davant d’una amenaça de dimensions colossals no hi ha cap profeta co
	negut que pugui oferir una salvació factible. Però què dimonis hi té a veu
	re\, la sardana\, amb tot això? Alguna profecia parla d’aquesta dansa ance
	stral? Per descobrir-ho hauràs de venir a veure-ho.\nArnau Tordera I\, art
	ista polifacètic format a l’Escola Superior de Música de Catalunya i al Ta
	ller de Músics de Barcelona. També és llicenciat en Filosofia per la UAB. 
	És cantant\, guitarrista i compositor del grup de música moderna Obeses am
	b el qual ha publicat cinc discos\, ha estrenat un concert simfònic amb la
	 Banda Municipal de Barcelona i cor a L’Auditori de Barcelona\, un concert
	 per a Cobla i cor mixt estrenat al festival “Amb so de cobla”\, pel qual 
	se li va concedir el Premi Rotllana 2019 i un Premi Capital de la Sardana 
	2021\, i va compondre i protagonitzar l’òpera-rock Verdaguer\, ombres i ma
	duixes.\nCobla: CaniGo!
GEO:41.98307;2.82531
LOCATION:Teatre Municipal - GIRONA
DURATION:PT2H
END:VEVENT
END:VCALENDAR
