BEGIN:VCALENDAR
VERSION:2.0
CALSCALE:GREGORIAN
PRODID:adamgibbons/ics
METHOD:PUBLISH
X-PUBLISHED-TTL:PT1H
BEGIN:VEVENT
UID:i4apN6YOCRqbPBh3Cf92r
SUMMARY:Concert Juli Garreta i el seu entorn\, les sardanes
DTSTAMP:20260423T150602Z
DTSTART:20250406T120000
DESCRIPTION:\nDescripció: https://www.kursaal.cat/programacio/acte/juli-gar
	reta-i-el-seu-entorn-les-sardanes\nCobla: Cobla de Cambra de Catalunya
LOCATION:Teatre Conservatori (Carrer del Mestre Blanch\, 4) - MANRESA
DURATION:PT2H
END:VEVENT
END:VCALENDAR
