BEGIN:VCALENDAR
VERSION:2.0
CALSCALE:GREGORIAN
PRODID:adamgibbons/ics
METHOD:PUBLISH
X-PUBLISHED-TTL:PT1H
BEGIN:VEVENT
UID:c_jCAVhYn4n-MEgmLkBDp
SUMMARY:Concert 'Cançons amb Carme' i Cloenda dels Campionats Territorials 
	de Barcelona Ciutat i Comarques Barcelonines
DTSTAMP:20260423T145943Z
DTSTART:20250215T190000
DESCRIPTION:\nDescripció: Preu entrada: 10€\nCobla: Maricel
GEO:41.61143;2.539695
LOCATION:Sala Municipal (Rambla de Francesc Macià\, 59) - ARENYS DE MUNT
DURATION:PT2H
END:VEVENT
END:VCALENDAR
