BEGIN:VCALENDAR
VERSION:2.0
CALSCALE:GREGORIAN
PRODID:adamgibbons/ics
METHOD:PUBLISH
X-PUBLISHED-TTL:PT1H
BEGIN:VEVENT
UID:7JMHYmimxkn9nhqV2Sv_0
SUMMARY:Bolo 01 - Encreuaments sardanístics
DTSTAMP:20260423T164147Z
DTSTART:20250222T170000
DESCRIPTION:\nDescripció: TFG d'arts visuals i performatives amb el publici
	sta Flavià Boleda i Franco\nCobla: Acte sense cobla
LOCATION:El Terce Espai  (Carrer Miracle\, 30) - BALAGUER
DURATION:PT2H
END:VEVENT
END:VCALENDAR
