BEGIN:VCALENDAR
VERSION:2.0
CALSCALE:GREGORIAN
PRODID:adamgibbons/ics
METHOD:PUBLISH
X-PUBLISHED-TTL:PT1H
BEGIN:VEVENT
UID:Z1I7GtYV1Vgf3oLQ8vyO6
SUMMARY:L'Història de les cobles\n
DTSTAMP:20260423T150744Z
DTSTART:20250213T180000
DESCRIPTION:\nDescripció: Oriol Lluís Gual\, director del museu de la músic
	a de Céret\nCobla: Acte sense cobla
LOCATION:PERPINYÀ (fr: Perpignan)
DURATION:PT2H
END:VEVENT
END:VCALENDAR
