BEGIN:VCALENDAR
VERSION:2.0
CALSCALE:GREGORIAN
PRODID:adamgibbons/ics
METHOD:PUBLISH
X-PUBLISHED-TTL:PT1H
BEGIN:VEVENT
UID:5b2-3cbH9dj5_JenF7Dt6
SUMMARY:Cobles\, compositors i sardanes: Dels Guanter i Agramont als Timón 
	i Fontclara. 
DTSTAMP:20260423T164446Z
DTSTART:20250321T190000
DESCRIPTION:\nDescripció: À càrrec de Jordi Saura. \nCicle 78 RPM. Foment d
	e la Música a les Biblioteques\nCobla: Acte sense cobla
LOCATION:Biblioteca (Pl de les Monges\, 2) - CASTELLÓ D'EMPÚRIES
DURATION:PT2H
END:VEVENT
END:VCALENDAR
