BEGIN:VCALENDAR
VERSION:2.0
CALSCALE:GREGORIAN
PRODID:adamgibbons/ics
METHOD:PUBLISH
X-PUBLISHED-TTL:PT1H
BEGIN:VEVENT
UID:fWFz2ob3dYVRvQJrkNs4Y
SUMMARY:Xerrada Jaume Nonell sobre Pep Ventura
DTSTAMP:20260423T150930Z
DTSTART:20250322T160000
DESCRIPTION:\nCobla: Acte sense cobla
LOCATION:La Cate - FIGUERES
DURATION:PT2H
END:VEVENT
END:VCALENDAR
