BEGIN:VCALENDAR
VERSION:2.0
CALSCALE:GREGORIAN
PRODID:adamgibbons/ics
METHOD:PUBLISH
X-PUBLISHED-TTL:PT1H
BEGIN:VEVENT
UID:TsFqtvxcLoN4Tuy2VDg8m
SUMMARY:Conferència commemorativa del centenari del naixement\nMax Havart\n
	Una visió nord-catalana de la sardana i la cobla a càrrec de Jaume Nonell
DTSTAMP:20260423T150520Z
DTSTART:20250328T180000
DESCRIPTION:\nCobla: Acte sense cobla
LOCATION:Museu de la Mediterrània (Carrer d'Ullà\, 27-31) - TORROELLA DE MO
	NTGRÍ
DURATION:PT2H
END:VEVENT
END:VCALENDAR
