BEGIN:VCALENDAR
VERSION:2.0
CALSCALE:GREGORIAN
PRODID:adamgibbons/ics
METHOD:PUBLISH
X-PUBLISHED-TTL:PT1H
BEGIN:VEVENT
UID:X-MoGnoSp1iPRQgH4dgV3
SUMMARY:9è Aplec Vila de Riudoms
DTSTAMP:20260421T084750Z
DTSTART:20250323T113000
DESCRIPTION:\nDescripció: Dinar de germanor a la sala Multiús del Casal Riu
	domenc\nCobles: Maricel i Reus Jove
LOCATION:Escola Beat Bonaventura Gran - RIUDOMS
DURATION:PT2H
END:VEVENT
END:VCALENDAR
