BEGIN:VCALENDAR
VERSION:2.0
CALSCALE:GREGORIAN
PRODID:adamgibbons/ics
METHOD:PUBLISH
X-PUBLISHED-TTL:PT1H
BEGIN:VEVENT
UID:EtIQ6PKjesVkexyo3m17c
SUMMARY:Concert: Més Garreta!
DTSTAMP:20260423T145948Z
DTSTART:20250302T180000
DESCRIPTION:\nDescripció: GIO Symphonia\nJoel Bardolet\, violí solista\nFra
	ncesc Prat\, director\nCobla: Acte sense cobla
GEO:41.98617;2.81149
LOCATION:Auditori (Passeig de la Devesa\, 35) - GIRONA
DURATION:PT2H
END:VEVENT
END:VCALENDAR
