BEGIN:VCALENDAR
VERSION:2.0
CALSCALE:GREGORIAN
PRODID:adamgibbons/ics
METHOD:PUBLISH
X-PUBLISHED-TTL:PT1H
BEGIN:VEVENT
UID:-xgpHXm44voOg0AZltUOY
SUMMARY:44a Fira de la Mel - Ballada de sardanes
DTSTAMP:20260423T150033Z
DTSTART:20250222T160000
DESCRIPTION:\nCobla: La Principal de Banyoles
LOCATION:Plaça Major - CRESPIÀ
DURATION:PT2H
END:VEVENT
END:VCALENDAR
