BEGIN:VCALENDAR
VERSION:2.0
CALSCALE:GREGORIAN
PRODID:adamgibbons/ics
METHOD:PUBLISH
X-PUBLISHED-TTL:PT1H
BEGIN:VEVENT
UID:VusN_AQqMKNTkoJBGfMbF
SUMMARY:44a Fira de la Mel
DTSTAMP:20260423T150127Z
DTSTART:20250223T160000
DESCRIPTION:\nCobla: Els Rossinyolets
LOCATION:Plaça Major - CRESPIÀ
DURATION:PT2H
END:VEVENT
END:VCALENDAR
