BEGIN:VCALENDAR
VERSION:2.0
CALSCALE:GREGORIAN
PRODID:adamgibbons/ics
METHOD:PUBLISH
X-PUBLISHED-TTL:PT1H
BEGIN:VEVENT
UID:QLlms2APCaXeKi_Fhlnss
SUMMARY:Sardanes: curs i ballada
DTSTAMP:20260423T145907Z
DTSTART:20250223T110000
DESCRIPTION:\nCobla: Música enregistrada
LOCATION:Plaça Catalunya - LA SÉNIA
DURATION:PT2H
END:VEVENT
END:VCALENDAR
