BEGIN:VCALENDAR
VERSION:2.0
CALSCALE:GREGORIAN
PRODID:adamgibbons/ics
METHOD:PUBLISH
X-PUBLISHED-TTL:PT1H
BEGIN:VEVENT
UID:RAlk6u3ScNn_p7hWWfox0
SUMMARY:Ballada de sardanes
DTSTAMP:20260423T145906Z
DTSTART:20250304T153000
DESCRIPTION:\nCobla: Vila de la Jonquera
LOCATION:Plaça Major - VERGES
DURATION:PT2H
END:VEVENT
END:VCALENDAR
