BEGIN:VCALENDAR
VERSION:2.0
CALSCALE:GREGORIAN
PRODID:adamgibbons/ics
METHOD:PUBLISH
X-PUBLISHED-TTL:PT1H
BEGIN:VEVENT
UID:X3012gCHFZYzzm47I7og4
SUMMARY:Terea Prat Salvat\, Selvatana\, feminista i miliciana
DTSTAMP:20260420T083727Z
DTSTART:20250305T200000
DESCRIPTION:\nDescripció: Conferència d'Axel Baiget Morreres\nCobla: Acte s
	ense cobla
LOCATION:Auditori de Santa Llúcia - LA SELVA DEL CAMP
DURATION:PT2H
END:VEVENT
END:VCALENDAR
