BEGIN:VCALENDAR
VERSION:2.0
CALSCALE:GREGORIAN
PRODID:adamgibbons/ics
METHOD:PUBLISH
X-PUBLISHED-TTL:PT1H
BEGIN:VEVENT
UID:DZ8E3kHdG8j_ae3mrweks
SUMMARY:Ballada de la Capitalitat
DTSTAMP:20260423T145904Z
DTSTART:20250315T160000
DESCRIPTION:\nCobla: La Principal de Banyoles
GEO:42.18315;2.48755
LOCATION:El Firal - OLOT
DURATION:PT2H
END:VEVENT
END:VCALENDAR
