BEGIN:VCALENDAR
VERSION:2.0
CALSCALE:GREGORIAN
PRODID:adamgibbons/ics
METHOD:PUBLISH
X-PUBLISHED-TTL:PT1H
BEGIN:VEVENT
UID:8h7459lOGpVvzZfTOPSFq
SUMMARY:Proclamació d’Olot Capital de la Sardana 2025
DTSTAMP:20260423T150658Z
DTSTART:20250315T173000
DESCRIPTION:\nDescripció: Acte institucional. \n\nPregó a càrrec d'Anna Nav
	arro i Descals\, olotina\, ambaixadora d'Olot i empresària tecnològica. \n
	Estrena de la sardana “Olot\, Capital de la Sardana” de Pau Vila i Elvira.
	 \nA les 18.30h\, descoberta de la placa de la Capitalitat a la façana de 
	l'Ajuntament. \nA les 19h\, cercavila fins a la plaça Major amb la partici
	pació de diversa faràndula dels barris d'Olot i el pubillatge\, amenitzada
	 per les cobles Principal de Banyoles i La Principal d'Olot.\nCobles: La P
	rincipal d'Olot i La Principal de Banyoles
GEO:42.18431;2.48587
LOCATION:Sala El Torín  - OLOT
DURATION:PT2H
END:VEVENT
END:VCALENDAR
