BEGIN:VCALENDAR
VERSION:2.0
CALSCALE:GREGORIAN
PRODID:adamgibbons/ics
METHOD:PUBLISH
X-PUBLISHED-TTL:PT1H
BEGIN:VEVENT
UID:iRuaYZhA2zDh5UpkizWJE
SUMMARY:Espectacle inaugural\, Olot\, Capital de la Sardana 2025
DTSTAMP:20260423T145937Z
DTSTART:20250315T200000
DESCRIPTION:\nDescripció: Festival de la proclamació presentat per La Quart
	a Paret\, amb la participació de la faràndula\, l'Esbart Olot\, Marc Andur
	ell i la Cobla La Principal d'Olot.\nCobla: La Principal d'Olot
GEO:42.1826;2.48985
LOCATION:Plaça Major - OLOT
DURATION:PT2H
END:VEVENT
END:VCALENDAR
