BEGIN:VCALENDAR
VERSION:2.0
CALSCALE:GREGORIAN
PRODID:adamgibbons/ics
METHOD:PUBLISH
X-PUBLISHED-TTL:PT1H
BEGIN:VEVENT
UID:z7iIwfDWsDMca1L1TV1Cr
SUMMARY:Ballada de sardanes gravades
DTSTAMP:20260423T150639Z
DTSTART:20250302T120000
DESCRIPTION:\nCobla: Música enregistrada
LOCATION:Parc del Quiosc - LLIÇÀ D'AMUNT
DURATION:PT2H
END:VEVENT
END:VCALENDAR
