BEGIN:VCALENDAR
VERSION:2.0
CALSCALE:GREGORIAN
PRODID:adamgibbons/ics
METHOD:PUBLISH
X-PUBLISHED-TTL:PT1H
BEGIN:VEVENT
UID:_0J8EQ4AfVJcl4rY3iw9C
SUMMARY:Presentació del nou disc de la Cobla Bisbal Jove en motiu del seu 3
	5è aniversari
DTSTAMP:20260423T164435Z
DTSTART:20250321T210000
DESCRIPTION:\nDescripció: Sardanes que s'interpretaran: \n\n- Manel (Marcel
	 Sabaté i Reixach)\n- Sota les estrelles (Jordi Molina i Membrives)\n- La 
	font de les ànimes (Pitu Chamorro i Ramos)\n- Flaçà\, punt d'enllaç (Eduar
	d Prats i Planagumà)\n- La Plaça del Castell (Jordi Feliu i Horta)\n- Xica
	\, tica i ballarica (Albert Garcia i Trujillo)\n- Esperit bisbalenc (Jordi
	 Paulí i Safont)\n- Amic Vicenç (Xavi Molina i Membrives)\n- Berenguera (B
	àrbara Ardanuy i Queldra)\n- Balleu\, balleu! (Enric Bassacoma i Xampró)\n
	- Petita Isona (Pau Feixas i Castells)\n- Ressons d'història (Carles Alcai
	de i Blaya)\n- Retorn (Martí Asencio i Casas)\n- Les fonts de Vilallonga (
	Àlex Vila i Pérez)\n- Vivències a la Bisbal Jove (Ferran Reig i Vilas)\n- 
	Bach... per a cobla? (Martí Solivera)\n- Bona llavor (Conrad Saló i Ramell
	)\n\nCobla: Bisbal Jove
LOCATION:Teatre El Mundial (Carrer de l'Estació\, 2-10) - LA BISBAL D'EMPOR
	DÀ
DURATION:PT2H
END:VEVENT
END:VCALENDAR
