BEGIN:VCALENDAR
VERSION:2.0
CALSCALE:GREGORIAN
PRODID:adamgibbons/ics
METHOD:PUBLISH
X-PUBLISHED-TTL:PT1H
BEGIN:VEVENT
UID:aTu2E-kxVdx9qbTgawN9X
SUMMARY:Ballada de sardanes
DTSTAMP:20260423T150801Z
DTSTART:20250302T120000
DESCRIPTION:\nCobla: Música enregistrada
LOCATION:Plaça de Verdaguer - CAPELLADES
DURATION:PT2H
END:VEVENT
END:VCALENDAR
