BEGIN:VCALENDAR
VERSION:2.0
CALSCALE:GREGORIAN
PRODID:adamgibbons/ics
METHOD:PUBLISH
X-PUBLISHED-TTL:PT1H
BEGIN:VEVENT
UID:_yNG_Z5G59IdQQ5CnRFcJ
SUMMARY:Aplec de Sant Gregori
DTSTAMP:20260423T150013Z
DTSTART:20250309T103000
DESCRIPTION:\nDescripció: Missa solemne i a continuació ballada de 3 sardan
	es\nCobla: Els Rossinyolets
LOCATION:Plaça de l'Església - SANT GREGORI
DURATION:PT2H
END:VEVENT
END:VCALENDAR
