BEGIN:VCALENDAR
VERSION:2.0
CALSCALE:GREGORIAN
PRODID:adamgibbons/ics
METHOD:PUBLISH
X-PUBLISHED-TTL:PT1H
BEGIN:VEVENT
UID:Ph4gIav5g4t9dcvJm2Wwc
SUMMARY:Concert 
DTSTAMP:20260423T145905Z
DTSTART:20250408T200000
DESCRIPTION:\nDescripció: Estrena de l'espectacle +QCOBLA amb el pianista C
	arlos Bianchini\nCobles: \, Ciutat de Cornellà\, Reus Jove i Conjunt
LOCATION:Teatre Apolo - BARCELONA\, Ciutat Vella
DURATION:PT2H
END:VEVENT
END:VCALENDAR
