BEGIN:VCALENDAR
VERSION:2.0
CALSCALE:GREGORIAN
PRODID:adamgibbons/ics
METHOD:PUBLISH
X-PUBLISHED-TTL:PT1H
BEGIN:VEVENT
UID:tjA7ltfZLfFMbt3tj6CBu
SUMMARY:Ballada de sardanes
DTSTAMP:20260423T145916Z
DTSTART:20250330T120000
DESCRIPTION:\nCobla: Ciutat de Granollers
LOCATION:Plaça de la Vila - MONTMELÓ
DURATION:PT2H
END:VEVENT
END:VCALENDAR
