BEGIN:VCALENDAR
VERSION:2.0
CALSCALE:GREGORIAN
PRODID:adamgibbons/ics
METHOD:PUBLISH
X-PUBLISHED-TTL:PT1H
BEGIN:VEVENT
UID:Tu5sFclq9z4CBZHrCeILD
SUMMARY:Ballada de sardanes
DTSTAMP:20260423T150508Z
DTSTART:20250329T163000
DESCRIPTION:\nDescripció: 10è Aniversari de Ferrer Xocolata\nCobla: La Prin
	cipal d'Olot
LOCATION:Plaça Mora - OLOT
DURATION:PT2H
END:VEVENT
END:VCALENDAR
