BEGIN:VCALENDAR
VERSION:2.0
CALSCALE:GREGORIAN
PRODID:adamgibbons/ics
METHOD:PUBLISH
X-PUBLISHED-TTL:PT1H
BEGIN:VEVENT
UID:xwWZppTGKs00T-OxUNd2_
SUMMARY:Acte de commemoració de la mort de Pep Ventura
DTSTAMP:20260423T150606Z
DTSTART:20250323T113000
DESCRIPTION:\nCobla: Acte sense cobla
LOCATION:Monument a la Sardana (Paseo de los Álamos) - ALCALÀ LA REAL
DURATION:PT2H
END:VEVENT
END:VCALENDAR
