BEGIN:VCALENDAR
VERSION:2.0
CALSCALE:GREGORIAN
PRODID:adamgibbons/ics
METHOD:PUBLISH
X-PUBLISHED-TTL:PT1H
BEGIN:VEVENT
UID:W5kH4_91DJRhXDgBv28Zb
SUMMARY:Ballada centenària
DTSTAMP:20260423T150818Z
DTSTART:20250329T180000
DESCRIPTION:\nCobla: La Principal de Terrassa
LOCATION:Plaça del Progrés - TERRASSA
DURATION:PT2H
END:VEVENT
END:VCALENDAR
