BEGIN:VCALENDAR
VERSION:2.0
CALSCALE:GREGORIAN
PRODID:adamgibbons/ics
METHOD:PUBLISH
X-PUBLISHED-TTL:PT1H
BEGIN:VEVENT
UID:EFKjLtV8i5rPGZv7tCGxk
SUMMARY:Ballada de sardanes
DTSTAMP:20260423T150043Z
DTSTART:20250406T180000
DESCRIPTION:\nCobla: Bisbal Jove
LOCATION:Centre Cívic - SILS-Vallcanera
DURATION:PT2H
END:VEVENT
END:VCALENDAR
