BEGIN:VCALENDAR
VERSION:2.0
CALSCALE:GREGORIAN
PRODID:adamgibbons/ics
METHOD:PUBLISH
X-PUBLISHED-TTL:PT1H
BEGIN:VEVENT
UID:jbMzSbHRZAJg_8vfliVZM
SUMMARY:Ballada de sardanes
DTSTAMP:20260423T151012Z
DTSTART:20250406T163000
DESCRIPTION:\nDescripció: Fira de les 40 hores\nCobla: Vents de Riella
LOCATION:Plaça del Monestir - RIPOLL
DURATION:PT2H
END:VEVENT
END:VCALENDAR
