BEGIN:VCALENDAR
VERSION:2.0
CALSCALE:GREGORIAN
PRODID:adamgibbons/ics
METHOD:PUBLISH
X-PUBLISHED-TTL:PT1H
BEGIN:VEVENT
UID:C8TPXLAKoReJl7mirfT-k
SUMMARY:80è Aplec de Sant Pau de la Calçada
DTSTAMP:20260420T110459Z
DTSTART:20260125T110000
DESCRIPTION:\nCobla: Foment del Montgrí
LOCATION:Ermita de Sant Pau de la Calçada - FIGUERES
DURATION:PT2H
END:VEVENT
END:VCALENDAR
