BEGIN:VCALENDAR
VERSION:2.0
CALSCALE:GREGORIAN
PRODID:adamgibbons/ics
METHOD:PUBLISH
X-PUBLISHED-TTL:PT1H
BEGIN:VEVENT
UID:_yA_lQjTRBsFBB9oEDtpu
SUMMARY:Inici del 73è Aplec de la Sardana
DTSTAMP:20260422T083707Z
DTSTART:20260718T193000
DESCRIPTION:\nCobla: Vents de Riella
LOCATION:Plaça de la Llibertat - RIPOLL
DURATION:PT2H
END:VEVENT
END:VCALENDAR
