BEGIN:VCALENDAR
VERSION:2.0
CALSCALE:GREGORIAN
PRODID:adamgibbons/ics
METHOD:PUBLISH
X-PUBLISHED-TTL:PT1H
BEGIN:VEVENT
UID:4wqfh7Tv6979QU9QDqv7f
SUMMARY:Festa de la Mare de Déu del Remei
DTSTAMP:20260422T083707Z
DTSTART:20261011T110000
DESCRIPTION:\nCobla: CaniGo!
LOCATION:Ermita del Remei - RIPOLL
DURATION:PT2H
END:VEVENT
END:VCALENDAR
