BEGIN:VCALENDAR
VERSION:2.0
CALSCALE:GREGORIAN
PRODID:adamgibbons/ics
METHOD:PUBLISH
X-PUBLISHED-TTL:PT1H
BEGIN:VEVENT
UID:_Uzgk-rddoyokETXRawkJ
SUMMARY:Festa del contribuent 2026
DTSTAMP:20260419T210311Z
DTSTART:20260307T160000
DESCRIPTION:\nDescripció: A les 18h Concert al Centre Cívic "Evaristo de la
	 Torre"\nA les 23h Ball al Centre Cívic "Evaristo de la Torre"\nCobla: Ros
	aleda
LOCATION:Plaça Major - EL PONT DE VILOMARA
DURATION:PT2H
END:VEVENT
END:VCALENDAR
