BEGIN:VCALENDAR
VERSION:2.0
CALSCALE:GREGORIAN
PRODID:adamgibbons/ics
METHOD:PUBLISH
X-PUBLISHED-TTL:PT1H
BEGIN:VEVENT
UID:fd-9P17xbHPkdquMA4PJn
SUMMARY:Ballada de sardanes
DTSTAMP:20260419T210311Z
DTSTART:20260308T150000
DESCRIPTION:\nCobla: Nova Germanor
LOCATION:Espace de la Prade - SANT GENÍS DE FONTANES (fr: Saint-Génis-des-F
	ontaines)
DURATION:PT2H
END:VEVENT
END:VCALENDAR
