BEGIN:VCALENDAR
VERSION:2.0
CALSCALE:GREGORIAN
PRODID:adamgibbons/ics
METHOD:PUBLISH
X-PUBLISHED-TTL:PT1H
BEGIN:VEVENT
UID:lsHUBx33zURgD24ZvlJVA
SUMMARY:Diumenge de Gloria
DTSTAMP:20260420T003141Z
DTSTART:20260405T120000
DESCRIPTION:\nCobla: Montgrins
LOCATION:Passeig del Mar - PALAMÓS
DURATION:PT2H
END:VEVENT
END:VCALENDAR
