BEGIN:VCALENDAR
VERSION:2.0
CALSCALE:GREGORIAN
PRODID:adamgibbons/ics
METHOD:PUBLISH
X-PUBLISHED-TTL:PT1H
BEGIN:VEVENT
UID:sURe_Se0WBJeru3ZPiYKc
SUMMARY:Dia de la dona
DTSTAMP:20260420T003915Z
DTSTART:20260308T120000
DESCRIPTION:\nCobla: 11 de Setembre
LOCATION:Plaça Salvador Seguí - TORNABOUS
DURATION:PT2H
END:VEVENT
END:VCALENDAR
