BEGIN:VCALENDAR
VERSION:2.0
CALSCALE:GREGORIAN
PRODID:adamgibbons/ics
METHOD:PUBLISH
X-PUBLISHED-TTL:PT1H
BEGIN:VEVENT
UID:MZ584dcMqbxddujZaZ1ch
SUMMARY:Sant Jordi
DTSTAMP:20260420T084225Z
DTSTART:20260423T170000
DESCRIPTION:\nCobla: 11 de Setembre
GEO:41.626613;1.009398
LOCATION:Plaça de Ramon Folch (El Parc) - BELLPUIG
DURATION:PT2H
END:VEVENT
END:VCALENDAR
