BEGIN:VCALENDAR
VERSION:2.0
CALSCALE:GREGORIAN
PRODID:adamgibbons/ics
METHOD:PUBLISH
X-PUBLISHED-TTL:PT1H
BEGIN:VEVENT
UID:ZLYl3vCEOKoxAeBt2aI01
SUMMARY:Ballada de Sardanes
DTSTAMP:20260421T182211Z
DTSTART:20260427T173000
DESCRIPTION:\nCobla: La Principal de Tarragona
LOCATION:Plaça de Dalt - MÓRA D'EBRE
DURATION:PT2H
END:VEVENT
END:VCALENDAR
