BEGIN:VCALENDAR
VERSION:2.0
CALSCALE:GREGORIAN
PRODID:adamgibbons/ics
METHOD:PUBLISH
X-PUBLISHED-TTL:PT1H
BEGIN:VEVENT
UID:6nX9IbWrqZu_p48edFmuj
SUMMARY:Ballada - Cloenda del curset
DTSTAMP:20260423T145709Z
DTSTART:20240730T213000
DESCRIPTION:\nDescripció: Cobla Ciutat de Terrassa\nCobles: \, Ciutat de Co
	rnellà\, Reus Jove i Conjunt
LOCATION:VALLIRANA
DURATION:PT2H
END:VEVENT
END:VCALENDAR
